BEGIN:VCALENDAR
VERSION:2.0
PRODID:-//Loudoun Literacy Council - ECPv6.15.15//NONSGML v1.0//EN
CALSCALE:GREGORIAN
METHOD:PUBLISH
X-ORIGINAL-URL:https://loudounliteracy.org
X-WR-CALDESC:Events for Loudoun Literacy Council
REFRESH-INTERVAL;VALUE=DURATION:PT1H
X-Robots-Tag:noindex
X-PUBLISHED-TTL:PT1H
BEGIN:VTIMEZONE
TZID:America/New_York
BEGIN:DAYLIGHT
TZOFFSETFROM:-0500
TZOFFSETTO:-0400
TZNAME:EDT
DTSTART:20210314T070000
END:DAYLIGHT
BEGIN:STANDARD
TZOFFSETFROM:-0400
TZOFFSETTO:-0500
TZNAME:EST
DTSTART:20211107T060000
END:STANDARD
BEGIN:DAYLIGHT
TZOFFSETFROM:-0500
TZOFFSETTO:-0400
TZNAME:EDT
DTSTART:20220313T070000
END:DAYLIGHT
BEGIN:STANDARD
TZOFFSETFROM:-0400
TZOFFSETTO:-0500
TZNAME:EST
DTSTART:20221106T060000
END:STANDARD
BEGIN:DAYLIGHT
TZOFFSETFROM:-0500
TZOFFSETTO:-0400
TZNAME:EDT
DTSTART:20230312T070000
END:DAYLIGHT
BEGIN:STANDARD
TZOFFSETFROM:-0400
TZOFFSETTO:-0500
TZNAME:EST
DTSTART:20231105T060000
END:STANDARD
END:VTIMEZONE
BEGIN:VEVENT
DTSTART;TZID=America/New_York:20220609T190000
DTEND;TZID=America/New_York:20220609T210000
DTSTAMP:20260424T121445
CREATED:20220614T222633Z
LAST-MODIFIED:20220719T165901Z
UID:2163-1654801200-1654808400@loudounliteracy.org
SUMMARY:Buzzed at the Bee
DESCRIPTION:
URL:https://loudounliteracy.org/event/buzzed-at-the-bee/
LOCATION:Trungo’s Restaurant\, 2C Loudoun Street\, SE\, Leesburg\, VA\, United States
CATEGORIES:Events
ATTACH;FMTTYPE=image/jpeg:https://loudounliteracy.org/wp-content/uploads/2022/06/Buzzed-at-the-bee-Trungos-1.jpg
END:VEVENT
BEGIN:VEVENT
DTSTART;TZID=America/New_York:20220101T000000
DTEND;TZID=America/New_York:20221231T235900
DTSTAMP:20260424T121445
CREATED:20220928T163932Z
LAST-MODIFIED:20230223T183737Z
UID:4240-1640995200-1672531140@loudounliteracy.org
SUMMARY:School Success Program
DESCRIPTION:School Success Program\nRequest School Success Program\n  \nPartnering with Loudoun County Public Schools\, our School Success Program allows the parents of the students to participate in a tailored curriculum aimed at helping them understand English and communicate effectively with the school as well as within their community. \nFor more information email us at schoolsuccess@loudounliteracy.org or call (703) 777-2205 \n \n  \nRequest School Success Program
URL:https://loudounliteracy.org/event/school-success-program/
CATEGORIES:Ongoing Programs
ATTACH;FMTTYPE=image/jpeg:https://loudounliteracy.org/wp-content/uploads/2022/09/School-Success-Program.jpg
ORGANIZER;CN="Loudoun Literacy Council - School Success":MAILTO:info@loudounliteracy.org
END:VEVENT
BEGIN:VEVENT
DTSTART;TZID=America/New_York:20220101T000000
DTEND;TZID=America/New_York:20221231T235900
DTSTAMP:20260424T121445
CREATED:20220928T151013Z
LAST-MODIFIED:20220929T153112Z
UID:4200-1640995200-1672531140@loudounliteracy.org
SUMMARY:Jobsite Program
DESCRIPTION:Jobsite Program\nRequest a Jobsite Program at your Location\n  \nWe partner with local businesses and organizations to provide work-focused English instruction for employees. \nThis program will be scheduled based on your need and preference and is available year round. \n  \nFor more information and to setup a training for your organization\, email us at jobsite@loudounliteracy.org or call (703) 777-2205 \n \n  \nRequest a Jobsite Program at your Location
URL:https://loudounliteracy.org/event/job-program/
CATEGORIES:Ongoing Programs
ATTACH;FMTTYPE=image/jpeg:https://loudounliteracy.org/wp-content/uploads/2022/09/Jobsite-Program_2.jpg
ORGANIZER;CN="Loudoun Literacy Council - Jobsite":MAILTO:info@loudounliteracy.org
END:VEVENT
BEGIN:VEVENT
DTSTART;TZID=America/New_York:20220101T000000
DTEND;TZID=America/New_York:20221231T235900
DTSTAMP:20260424T121445
CREATED:20220927T153520Z
LAST-MODIFIED:20221004T152928Z
UID:4225-1640995200-1672531140@loudounliteracy.org
SUMMARY:Tutoring Program
DESCRIPTION:Tutoring Program\nRegistration\n  \nFor students who prefer working one-on-one with a tutor or those who cannot make it to one of our classes due to schedule conflicts or transportation issues\, individual tutoring is available. \nThis program will be scheduled based on your need and preference and is available year round. \nFor more information email us at tutor@loudounliteracy.org or call (703) 777-2205 \n  \n \nRegistration
URL:https://loudounliteracy.org/event/tutoring-program-info/
CATEGORIES:Ongoing Programs
ATTACH;FMTTYPE=image/jpeg:https://loudounliteracy.org/wp-content/uploads/2022/09/Tutoring-Program.jpg
ORGANIZER;CN="Loudoun Literacy Council - Tutor":MAILTO:info@loudounliteracy.org
END:VEVENT
END:VCALENDAR