BEGIN:VCALENDAR
VERSION:2.0
PRODID:-//Loudoun Literacy Council - ECPv6.15.15//NONSGML v1.0//EN
CALSCALE:GREGORIAN
METHOD:PUBLISH
X-ORIGINAL-URL:https://loudounliteracy.org
X-WR-CALDESC:Events for Loudoun Literacy Council
REFRESH-INTERVAL;VALUE=DURATION:PT1H
X-Robots-Tag:noindex
X-PUBLISHED-TTL:PT1H
BEGIN:VTIMEZONE
TZID:America/New_York
BEGIN:DAYLIGHT
TZOFFSETFROM:-0500
TZOFFSETTO:-0400
TZNAME:EDT
DTSTART:20210314T070000
END:DAYLIGHT
BEGIN:STANDARD
TZOFFSETFROM:-0400
TZOFFSETTO:-0500
TZNAME:EST
DTSTART:20211107T060000
END:STANDARD
BEGIN:DAYLIGHT
TZOFFSETFROM:-0500
TZOFFSETTO:-0400
TZNAME:EDT
DTSTART:20220313T070000
END:DAYLIGHT
BEGIN:STANDARD
TZOFFSETFROM:-0400
TZOFFSETTO:-0500
TZNAME:EST
DTSTART:20221106T060000
END:STANDARD
BEGIN:DAYLIGHT
TZOFFSETFROM:-0500
TZOFFSETTO:-0400
TZNAME:EDT
DTSTART:20230312T070000
END:DAYLIGHT
BEGIN:STANDARD
TZOFFSETFROM:-0400
TZOFFSETTO:-0500
TZNAME:EST
DTSTART:20231105T060000
END:STANDARD
BEGIN:DAYLIGHT
TZOFFSETFROM:-0500
TZOFFSETTO:-0400
TZNAME:EDT
DTSTART:20240310T070000
END:DAYLIGHT
BEGIN:STANDARD
TZOFFSETFROM:-0400
TZOFFSETTO:-0500
TZNAME:EST
DTSTART:20241103T060000
END:STANDARD
END:VTIMEZONE
BEGIN:VEVENT
DTSTART;TZID=America/New_York:20230615T190000
DTEND;TZID=America/New_York:20230803T210000
DTSTAMP:20260424T081709
CREATED:20230527T122027Z
LAST-MODIFIED:20230527T122614Z
UID:4752-1686855600-1691096400@loudounliteracy.org
SUMMARY:GED Program
DESCRIPTION:FREE GED Program\nRegister NOW!\nLoudoun Literacy Council offers a FREE GED Exam Prep for adults 17+. Our trained teachers will review each of the subjects on the GED: Math\, Science\, Language Arts\, Social Studies\, and Writing. \nYou will also be given test taking tips and practice exams. \nClass date and times: June 15th – August 3rd at Cascades Library 7-9pm. \nFor more information\, email Jenny Cassidy at ged@loudounliteracy.org or call (703) 777-2205 \n  \n \n  \n  \nRegister NOW!
URL:https://loudounliteracy.org/event/ged-program-june-2023/
LOCATION:Cascades Library\, 21030 Whitfield Pl\,\, Potomac Falls\, 20165\, United States
CATEGORIES:Classes
ATTACH;FMTTYPE=image/jpeg:https://loudounliteracy.org/wp-content/uploads/2022/09/GED-Program-2023.jpg
ORGANIZER;CN="Loudoun Literacy Council - GED":MAILTO:info@loudounliteracy.org
END:VEVENT
BEGIN:VEVENT
DTSTART;TZID=America/New_York:20230615T190000
DTEND;TZID=America/New_York:20230727T204500
DTSTAMP:20260424T081709
CREATED:20230527T122756Z
LAST-MODIFIED:20230527T123725Z
UID:4758-1686855600-1690490700@loudounliteracy.org
SUMMARY:Health Literacy Classes
DESCRIPTION:Health Literacy Classes\nRegister NOW!\n  \nLoudoun Literacy Council is happy to offer free Health Literacy classes on Thursdays starting June 15th – July 27th at Douglas Community Center from 7:00 pm – 8:45 pm. \nBe on the lookout for an additional post on Facebook that will contain a QR code to register online!  \nFor inquiries\, email us at healthliteracy@loudounliteracy.org or call 703.777.2205. \n \nRegister NOW!
URL:https://loudounliteracy.org/event/health-literacy-classes-june-2023/
LOCATION:Douglas Community Center\, 705-H E Market St\,\, Leesburg\, VA\, 20175\, United States
CATEGORIES:Classes
ATTACH;FMTTYPE=image/jpeg:https://loudounliteracy.org/wp-content/uploads/2023/05/Health-Literacy-Class-General.jpg
ORGANIZER;CN="Loudoun Literacy Council - Health Literacy":MAILTO:info@loudounliteracy.org
END:VEVENT
BEGIN:VEVENT
DTSTART;TZID=America/New_York:20230605T190000
DTEND;TZID=America/New_York:20230818T190000
DTSTAMP:20260424T081709
CREATED:20230425T145442Z
LAST-MODIFIED:20230515T154701Z
UID:4722-1685991600-1692385200@loudounliteracy.org
SUMMARY:Free Summer 2023 English Classes
DESCRIPTION:Registration is now closed – please check back in the Fall!\nFREE Summer 2023 English Classes!\nRegistration is now closed!\n We offer both in-person and online classes. \nBeginner\, Intermediate\, and Advanced classes are available. \nPre-registration is required for all classes using our online form. \nFull schedule of available classes will be on the registration link. \nONLY OPEN TO LOUDOUN RESIDENTS\n\n  \n  \n \n  \nRegistration is closed!
URL:https://loudounliteracy.org/event/free-summer-2023-english-classes/
LOCATION:VA
CATEGORIES:Classes
ATTACH;FMTTYPE=image/jpeg:https://loudounliteracy.org/wp-content/uploads/2023/01/Free-Spring-ELL-classes-2023.jpg
ORGANIZER;CN="Loudoun Literacy Council":MAILTO:info@loudounliteracy.org
END:VEVENT
BEGIN:VEVENT
DTSTART;TZID=America/New_York:20230411T190000
DTEND;TZID=America/New_York:20230411T203000
DTSTAMP:20260424T081709
CREATED:20230301T190925Z
LAST-MODIFIED:20230302T163540Z
UID:4618-1681239600-1681245000@loudounliteracy.org
SUMMARY:Citizenship Exam Prep | Preparación para el examen de ciudadanía
DESCRIPTION:Citizenship Exam Prep | Preparación para el examen de ciudadanía\nRegister NOW!\nLoudoun Literacy Council is offering a FREE Citizenship Exam Prep Class. The class will teach the history behind the interview questions while improving English skills. It will also offer an opportunity to gain a better understanding of U.S. culture. \n*Proficient/Advanced English Speakers* \nThe class will run from April 11 – May 30 from 7:00pm – 8:30pm at the Douglas Community Center. \n\nLearn the history behind the questions\nPractice listening\, speaking and writing\nImprove English skills\nGain a better understanding of the history and\nCulture of the country in which you now live\n\n  \nFor more information\, email Jenny Cassidy at citizenship@loudounliteracy.org or call (703) 777-2205 \n \n  \nRegister NOW!
URL:https://loudounliteracy.org/event/citizenship-exam-prep-april-23/
LOCATION:Douglas Community Center\, 705-H E Market St\,\, Leesburg\, VA\, 20175\, United States
CATEGORIES:Classes
ATTACH;FMTTYPE=image/jpeg:https://loudounliteracy.org/wp-content/uploads/2022/08/US-Citizenship-Exam-Class_2022.jpg
ORGANIZER;CN="Loudoun Literacy Council - Citizenship":MAILTO:info@loudounliteracy.org
END:VEVENT
BEGIN:VEVENT
DTSTART;TZID=America/New_York:20230309T190000
DTEND;TZID=America/New_York:20230427T204500
DTSTAMP:20260424T081709
CREATED:20230119T214549Z
LAST-MODIFIED:20230120T160154Z
UID:4531-1678388400-1682628300@loudounliteracy.org
SUMMARY:Health Literacy Classes
DESCRIPTION:Health Literacy Classes\nRegister NOW!\n  \nLoudoun Literacy Council is happy to offer free Health Literacy classes on Thursdays starting March 9 – April 27 at Douglas Community Center from 7:00 pm – 8:45 pm. \nBe on the lookout for an additional post on Facebook that will contain a QR code to register online!  \nFor inquiries\, email us: healthliteracy@loudounliteracy.org. \n  \nRegister NOW!
URL:https://loudounliteracy.org/event/health-literacy-classes-march-23/
LOCATION:Douglas Community Center\, 705-H E Market St\,\, Leesburg\, VA\, 20175\, United States
CATEGORIES:Classes
ATTACH;FMTTYPE=image/jpeg:https://loudounliteracy.org/wp-content/uploads/2023/01/Health-Literacy-Class-March-2023.jpg
ORGANIZER;CN="Loudoun Literacy Council - Health Literacy":MAILTO:info@loudounliteracy.org
END:VEVENT
BEGIN:VEVENT
DTSTART;TZID=America/New_York:20230213T190000
DTEND;TZID=America/New_York:20230213T204500
DTSTAMP:20260424T081709
CREATED:20230109T215803Z
LAST-MODIFIED:20230223T183726Z
UID:4480-1676314800-1676321100@loudounliteracy.org
SUMMARY:Free Spring 2023 English Classes - Registration is now closed
DESCRIPTION:Registration is now closed! Please check back in May for Summer Registration.\nFREE Spring 2023 English Classes\nRegistration is now closed\nLoudoun Literacy Council is very excited to announce that registration for our FREE ELL classes for our spring session is open. We offer both in-person and online classes. \nPre-registration is required for all classes using our online form. \nONLY OPEN TO LOUDOUN RESIDENTS\nSEE FULL SCHEDULE OF ELL CLASSES FOR DATES AND LOCATIONS HERE\n \n  \n \n  \n  \n  \n  \n  \nRegistration is now closed
URL:https://loudounliteracy.org/event/free-spring-2023-english-classes/
LOCATION:VA
CATEGORIES:Classes
ATTACH;FMTTYPE=image/jpeg:https://loudounliteracy.org/wp-content/uploads/2023/01/Free-Spring-ELL-classes-2023.jpg
ORGANIZER;CN="Loudoun Literacy Council":MAILTO:info@loudounliteracy.org
END:VEVENT
BEGIN:VEVENT
DTSTART;TZID=America/New_York:20230211T103000
DTEND;TZID=America/New_York:20230211T120000
DTSTAMP:20260424T081709
CREATED:20221109T212247Z
LAST-MODIFIED:20230120T152526Z
UID:4417-1676111400-1676116800@loudounliteracy.org
SUMMARY:Tutor Workshop
DESCRIPTION:Are you interested in tutoring adults?  \nLoudoun Literacy Council will be holding a workshop that will focus just on working with small groups and one-on-one tutoring.  \nPlease join us\, Saturday\, February 11th\, 2023 at Cascades Library from 10:30am-12:00pm.  \nIf interested\, please scan the QR code located on the flyer to sign up or click here. \nLooking forward to seeing you there! \n \n  \n 
URL:https://loudounliteracy.org/event/tutor-workshop-2022/
LOCATION:Cascades Library\, 21030 Whitfield Pl\,\, Potomac Falls\, 20165\, United States
CATEGORIES:Classes,Volunteer Opportunity
ATTACH;FMTTYPE=image/jpeg:https://loudounliteracy.org/wp-content/uploads/2022/11/Tutoring-Workshop-11_19_22.jpg
ORGANIZER;CN="Loudoun Literacy Council - Tutor":MAILTO:info@loudounliteracy.org
END:VEVENT
BEGIN:VEVENT
DTSTART;TZID=America/New_York:20230124T183000
DTEND;TZID=America/New_York:20230124T200000
DTSTAMP:20260424T081709
CREATED:20221213T162418Z
LAST-MODIFIED:20221213T163135Z
UID:4461-1674585000-1674590400@loudounliteracy.org
SUMMARY:Become an ELL Teacher - Spring Workshop (Zoom Meeting)
DESCRIPTION:Are you looking to volunteer in the spring?\nRegister NOW!\nLoudoun Literacy is excited to offer a FREE Workshop on teaching English to adult immigrants and refugees.  This training is open to anyone that is interested in volunteering with us in any of our adult literacy programs. It is a wonderful opportunity to get to know your community and is such a unique and rewarding experience. No teaching experience is necessary. We will provide all resources needed. Volunteers must be 18+. \nIf interested\, please register via our website: loudounliteracy.org or use your smartphone to scan the QR code to access the registration form. If you have any questions\, please reach out to Rebecca Caldwell\, Adult Literacy Program Director at teachenglish@loudounliteracy.org. \n  \n \n  \nRegister NOW!
URL:https://loudounliteracy.org/event/become-an-ell-teacher-spring-zoom/
LOCATION:Zoom Online Meeting
CATEGORIES:Classes,Volunteer Opportunity
ATTACH;FMTTYPE=image/jpeg:https://loudounliteracy.org/wp-content/uploads/2022/07/Become-and-ELL-TEacher-August-20_2022_2-1.jpg
ORGANIZER;CN="Loudoun Literacy Council":MAILTO:info@loudounliteracy.org
END:VEVENT
BEGIN:VEVENT
DTSTART;TZID=America/New_York:20230119T103000
DTEND;TZID=America/New_York:20230119T123000
DTSTAMP:20260424T081709
CREATED:20221213T161606Z
LAST-MODIFIED:20221213T163142Z
UID:4455-1674124200-1674131400@loudounliteracy.org
SUMMARY:Become an ELL Teacher - Spring Workshop (in-person)
DESCRIPTION:Are you looking to volunteer in the spring?\nRegister NOW!\nLoudoun Literacy is excited to offer a FREE Workshop on teaching English to adult immigrants and refugees.  This training is open to anyone that is interested in volunteering with us in any of our adult literacy programs. It is a wonderful opportunity to get to know your community and is such a unique and rewarding experience. No teaching experience is necessary. We will provide all resources needed. Volunteers must be 18+. \nIf interested\, please register via our website: loudounliteracy.org or use your smartphone to scan the QR code to access the registration form. If you have any questions\, please reach out to Rebecca Caldwell\, Adult Literacy Program Director at teachenglish@loudounliteracy.org. \n  \n \n  \nRegister NOW!
URL:https://loudounliteracy.org/event/become-an-ell-teacher-spring-23/
LOCATION:Cascades Library\, 21030 Whitfield Pl\,\, Potomac Falls\, 20165\, United States
CATEGORIES:Classes,Volunteer Opportunity
ATTACH;FMTTYPE=image/jpeg:https://loudounliteracy.org/wp-content/uploads/2022/07/Become-and-ELL-TEacher-August-20_2022_2-1.jpg
ORGANIZER;CN="Loudoun Literacy Council":MAILTO:info@loudounliteracy.org
END:VEVENT
BEGIN:VEVENT
DTSTART;TZID=America/New_York:20230110T190000
DTEND;TZID=America/New_York:20230110T210000
DTSTAMP:20260424T081709
CREATED:20220927T204445Z
LAST-MODIFIED:20221130T204457Z
UID:4182-1673377200-1673384400@loudounliteracy.org
SUMMARY:GED Program
DESCRIPTION:FREE GED Program\nRegister NOW!\nLoudoun Literacy Council offers a FREE GED Exam Prep for adults 17+. Our trained teachers will review each of the subjects on the GED: Math\, Science\, Language Arts\, Social Studies\, and Writing. \nYou will also be given test taking tips and practice exams. \nClass date and times: January 10th-March 28th at Cascades Library 7-9pm. \nFor more information\, email Jenny Cassidy at ged@loudounliteracy.org or call (703) 777-2205 \n \nRegister NOW!
URL:https://loudounliteracy.org/event/ged-program-winter-2023/
LOCATION:Cascades Library\, 21030 Whitfield Pl\,\, Potomac Falls\, 20165\, United States
CATEGORIES:Classes
ATTACH;FMTTYPE=image/jpeg:https://loudounliteracy.org/wp-content/uploads/2022/09/GED-Program-2023.jpg
ORGANIZER;CN="Loudoun Literacy Council - GED":MAILTO:info@loudounliteracy.org
END:VEVENT
BEGIN:VEVENT
DTSTART;TZID=America/New_York:20221011T190000
DTEND;TZID=America/New_York:20221011T204500
DTSTAMP:20260424T081709
CREATED:20220810T185804Z
LAST-MODIFIED:20220818T162801Z
UID:3995-1665514800-1665521100@loudounliteracy.org
SUMMARY:Financial Literacy Classes | Clases de educación financiera
DESCRIPTION:Coming Soon!\nFinancial Literacy Classes\nRegister NOW!\nOur finance classes will run once a week for 7 weeks and will include topics such as: \n– household spending and shopping \n– budgeting \n– credit \n– debit and banking among others! \nWe would love to have you join us starting October 11-November 22 from 7:00-8:45pm at Sterling Library. \nTo register\, please scan the QR code on the flyer below or click “Register Now”! \n \nRegister NOW!
URL:https://loudounliteracy.org/event/financial-literacy-classes/
LOCATION:Sterling Library\, 22330 S Sterling Blvd a117\, Sterling\, 20164
CATEGORIES:Classes
ATTACH;FMTTYPE=image/jpeg:https://loudounliteracy.org/wp-content/uploads/2022/08/Free-Fall-Financial-Literacy-Class_2022.jpg
ORGANIZER;CN="Loudoun Literacy Council":MAILTO:info@loudounliteracy.org
END:VEVENT
BEGIN:VEVENT
DTSTART;TZID=America/New_York:20221006T190000
DTEND;TZID=America/New_York:20221006T203000
DTSTAMP:20260424T081709
CREATED:20220817T153819Z
LAST-MODIFIED:20220908T203826Z
UID:4012-1665082800-1665088200@loudounliteracy.org
SUMMARY:Citizenship Exam Prep | Preparación para el examen de ciudadanía
DESCRIPTION:Citizenship Exam Prep | Preparación para el examen de ciudadanía\nRegister NOW!\nLoudoun Literacy Council is offering a FREE Citizenship Exam Prep Class. The class will teach the history behind the interview questions while improving English skills. It will also offer an opportunity to gain a better understanding of U.S. culture. \n*Proficient/Advanced English Speakers* \nThe class will run for 8 weeks from October 6th – November 17th from 7:00pm – 8:30pm at the Sterling Community Center. \n\nLearn the history behind the questions\nPractice listening\, speaking and writing\nImprove English skills\nGain a better understanding of the history and\nCulture of the country in which you now live\n\n  \nFor more information\, email Jenny Cassidy at citizenship@loudounliteracy.org or call (703) 777-2205 \n  \n \nRegister NOW!
URL:https://loudounliteracy.org/event/citizenship-exam-prep-2022/
LOCATION:Sterling Community Center\, 120 Enterprise St\,\, Sterling\, VA\, 20164\, United States
CATEGORIES:Classes
ATTACH;FMTTYPE=image/jpeg:https://loudounliteracy.org/wp-content/uploads/2022/08/US-Citizenship-Exam-Class_2022.jpg
ORGANIZER;CN="Loudoun Literacy Council - Citizenship":MAILTO:info@loudounliteracy.org
END:VEVENT
BEGIN:VEVENT
DTSTART;TZID=America/New_York:20220906T190000
DTEND;TZID=America/New_York:20220906T204500
DTSTAMP:20260424T081709
CREATED:20220721T213539Z
LAST-MODIFIED:20220913T135652Z
UID:3826-1662490800-1662497100@loudounliteracy.org
SUMMARY:*NEW* Advanced ELL Class Coming this Fall
DESCRIPTION:ELL classes are full for the fall session. Spring classes will begin late January\, look for registration in December.\n*NEW* ELL Class Coming Fall 2022\nRegistration Closed!\nLoudoun Literacy Council is very excited to announce a *NEW* Advanced + ELL class that will be added to our fall session at Cascades Library on Thursday evenings from 7-8:45 pm starting September 8th!\nTake a look at the flyer below to learn what different topics you will learn! Registration will open on Monday\, August 1st. You will be able to register for this new class using the QR code on the flyer or with the registration button.\nPre-registration is required for all classes using our online form. \nWe look forward to having you join!\n \n \n \n  \nRegistration Closed!
URL:https://loudounliteracy.org/event/new-advanced-ell-class-coming-this-fall/
LOCATION:Cascades Library\, 21030 Whitfield Pl\,\, Potomac Falls\, 20165\, United States
CATEGORIES:Classes
ATTACH;FMTTYPE=image/jpeg:https://loudounliteracy.org/wp-content/uploads/2022/07/New-Fall-ELL-classes-September_2022_2.jpg
ORGANIZER;CN="Loudoun Literacy Council":MAILTO:info@loudounliteracy.org
END:VEVENT
BEGIN:VEVENT
DTSTART;TZID=America/New_York:20220906T190000
DTEND;TZID=America/New_York:20220906T204500
DTSTAMP:20260424T081709
CREATED:20220720T150817Z
LAST-MODIFIED:20220913T135721Z
UID:3698-1662490800-1662497100@loudounliteracy.org
SUMMARY:Free Fall 2022 English Classes
DESCRIPTION:ELL classes are full for the fall session. Spring classes will begin late January\, look for registration in December.\nFREE Fall 2022 English Classes\nRegistration Closed!\nLoudoun Literacy Council is very excited to announce that registration for our FREE ELL classes for our fall session will open on Monday\, August 1st. We offer both in-person and online classes. \n Classes will be held once a week for 11 weeks starting September 6th – November 22nd. \nPre-registration is required for all classes using our online form. \nONLY OPEN TO LOUDOUN RESIDENTS\n  \n \n  \n \n  \n \n  \n  \nRegistration Closed!
URL:https://loudounliteracy.org/event/free-fall-2022-english-classes/
LOCATION:VA
CATEGORIES:Classes
ATTACH;FMTTYPE=image/jpeg:https://loudounliteracy.org/wp-content/uploads/2022/07/Free-Fall-ELL-classes-August_2022_2.jpg
ORGANIZER;CN="Loudoun Literacy Council":MAILTO:info@loudounliteracy.org
END:VEVENT
BEGIN:VEVENT
DTSTART;TZID=America/New_York:20220823T180000
DTEND;TZID=America/New_York:20220823T200000
DTSTAMP:20260424T081709
CREATED:20220719T163959Z
LAST-MODIFIED:20220825T025535Z
UID:3618-1661277600-1661284800@loudounliteracy.org
SUMMARY:Health Literacy Classes | Clases de alfabetización médica
DESCRIPTION:Health Literacy Classes\nRegister NOW!\nLoudoun Literacy Council is happy to offer free Health Literacy classes on Tuesdays starting August 23rd-October 4th at Sterling Community Center from 6-8pm. \nRegistration will open on Monday\, July 25th. Be on the lookout for an additional post on Facebook that will contain a QR code to register online! For inquiries\, email us: healthliteracy@loudounliteracy.org. \n  \nRegister NOW!
URL:https://loudounliteracy.org/event/health-literacy-classes/
LOCATION:Sterling Community Center\, 120 Enterprise St\,\, Sterling\, VA\, 20164\, United States
CATEGORIES:Classes
ATTACH;FMTTYPE=image/jpeg:https://loudounliteracy.org/wp-content/uploads/2022/07/Health-Literacy-Class-August-23-2022.jpg
ORGANIZER;CN="Loudoun Literacy Council":MAILTO:info@loudounliteracy.org
END:VEVENT
END:VCALENDAR